View In:
ArcGIS JavaScript
ArcGIS Online Map Viewer
ArcGIS Earth
ArcGIS Pro
Service Description: <DIV STYLE="text-align:Left;"><DIV><P><SPAN>2010 Full County aerial photo with 1 Meter resolution. Data source is National Agriculture Imagery Program (NAIP)</SPAN></P></DIV></DIV>
Map Name: Layers
Legend
All Layers and Tables
Layers:
Description:
Service Item Id: 223319af03dd4b2fb0ca462b4958952d
Copyright Text: National Agriculture Imagery Program (NAIP)
Spatial Reference:
102100
(3857)
LatestVCSWkid(0)
Single Fused Map Cache: true
Tile Info:
- Height: 256.0
- Width: 256.0
- DPI: 96.0
-
Levels of Detail: 24
-
Level ID: 0
[ Start Tile, End Tile ]
- Resolution: 156543.03392800014
- Scale: 5.91657527591555E8
-
Level ID: 1
[ Start Tile, End Tile ]
- Resolution: 78271.51696399994
- Scale: 2.95828763795777E8
-
Level ID: 2
[ Start Tile, End Tile ]
- Resolution: 39135.75848200009
- Scale: 1.47914381897889E8
-
Level ID: 3
[ Start Tile, End Tile ]
- Resolution: 19567.87924099992
- Scale: 7.3957190948944E7
-
Level ID: 4
[ Start Tile, End Tile ]
- Resolution: 9783.93962049996
- Scale: 3.6978595474472E7
-
Level ID: 5
[ Start Tile, End Tile ]
- Resolution: 4891.96981024998
- Scale: 1.8489297737236E7
- Format: MIXED
- Compression Quality: 75.0
- Origin: X: -2.0037508342787E7
Y: 2.0037508342787E7
- Spatial Reference: 102100
(3857)
LatestVCSWkid(0)
Storage Info:
- Storage Format: esriMapCacheStorageModeCompactV2
- Packet Size: 128
Initial Extent:
XMin: -1.3493303890257668E7
YMin: 4766051.672741001
XMax: -1.3396376171644527E7
YMax: 4803390.180697321
Spatial Reference: 102100
(3857)
LatestVCSWkid(0)
Full Extent:
XMin: -1.3507497749718122E7
YMin: 4706702.988055803
XMax: -1.3354693694753278E7
YMax: 4818433.04035877
Spatial Reference: 102100
(3857)
LatestVCSWkid(0)
Units: esriMeters
Supported Image Format Types: PNG32,PNG24,PNG,JPG,DIB,TIFF,EMF,PS,PDF,GIF,SVG,SVGZ,BMP
Document Info:
Title: aerial_2010_1M_Full_County
Author: sroberts
Comments: 2010 Full County aerial photo with 1 Meter resolution. Data source is National Agriculture Imagery Program (NAIP)
Subject: 2010 Full County aerial photo with 1 Meter resolution
Category:
Keywords: 2010,aerial photo,full county,Nevada County
AntialiasingMode: None
TextAntialiasingMode: None
Supports Dynamic Layers: false
MaxRecordCount: 1000
MaxSelectionCount: 2000
MaxImageHeight: 4096
MaxImageWidth: 4096
Supported Query Formats: JSON, geoJSON, PBF
Supports Query Data Elements: true
Min Scale: 577790.554289
Max Scale: 1128.497176
Min LOD: 10
Max LOD: 19
Supports Datum Transformation: true
Child Resources:
Info
Supported Operations:
Export Map
QueryLegends
QueryDomains
Find
Return Updates